BEGIN:VCALENDAR
VERSION:2.0
PRODID:-//ChamberMaster//Event Calendar 2.0//EN
METHOD:PUBLISH
X-PUBLISHED-TTL:P1H
REFRESH-INTERVAL:P1H
CALSCALE:GREGORIAN
BEGIN:VTIMEZONE
TZID:America/New_York
BEGIN:DAYLIGHT
RRULE:FREQ=YEARLY;BYMONTH=3;BYDAY=2SU
DTSTART:20070101T000000
TZOFFSETFROM:-0500
TZOFFSETTO:-0400
TZNAME:Eastern Daylight Time
END:DAYLIGHT
BEGIN:STANDARD
RRULE:FREQ=YEARLY;BYMONTH=11;BYDAY=1SU
DTSTART:20070101T000000
TZOFFSETFROM:-0400
TZOFFSETTO:-0500
TZNAME:Eastern Standard Time
END:STANDARD
END:VTIMEZONE
BEGIN:VEVENT
DTSTART;TZID=America/New_York:20260721T070000
DTEND;TZID=America/New_York:20260721T090000
X-MICROSOFT-CDO-ALLDAYEVENT:FALSE
SUMMARY:Eggs ‘N Issues: Sparking NKY’s Future – A Fireside Chat with Garren Colvin
DESCRIPTION:Join us this July for a special Eggs 'N Issues as we sit down with Garren Colvin\, former Co-Chairman of LifeSciKY and President & CEO of St. Elizabeth Healthcare\, for a timely fireside chat on the future of Northern Kentucky. As we celebrate America's 250th anniversary\, this conversation will explore the leadership\, vision\, and momentum shaping our region's next chapter. From economic growth to community impact\, hear firsthand insights on where NKY is headed and what it will take to get there. Don't miss this engaging discussion as we spark ideas and look ahead to what's next.\n\nScheduled Speakers:Garren Colvin\, President & CEO of St. Elizabeth HealthcareModerator: Brent Cooper\, President and CEO of the Northern Kentucky Chamber of Commerce Event Schedule:7:30am - 7:55am: Attendee Check-In/Breakfast/Networking 7:55am - 9:00am: Keynote Presentation and Audience Q&A
X-ALT-DESC;FMTTYPE=text/html:<!DOCTYPE html><html><head><title></title></head><body aria-disabled="false"><p><span data-olk-copy-source="MessageBody" style="font-size: 18px\; font-family: Arial\, Helvetica\, sans-serif\; color: rgb(0\, 0\, 0)\;">Join us this July for a special Eggs &lsquo\;N Issues as we sit down with Garren Colvin\, former Co-Chairman of LifeSciKY and President &amp\; CEO of St. Elizabeth Healthcare\, for a timely fireside chat on the future of Northern Kentucky. As we celebrate America&rsquo\;s 250th anniversary\, this conversation will explore the leadership\, vision\, and momentum shaping our region&rsquo\;s next chapter. From economic growth to community impact\, hear firsthand insights on where NKY is headed and what it will take to get there. Don&rsquo\;t miss this engaging discussion as we spark ideas and look ahead to what&rsquo\;s next.</span><span style="color: rgb(0\, 0\, 0)\;"><span style="font-size: 18px\;"><span style="font-family: Arial\,Helvetica\,sans-serif\;"><br></span></span></span></p><p><span style="color: rgb(0\, 0\, 0)\;"><span style="font-size: 18px\;"><span style="font-family: Arial\,Helvetica\,sans-serif\;"><br></span></span></span></p><p><span style="color: rgb(0\, 0\, 0)\;"><span style="font-size: 18px\;"><span style="font-family: Arial\,Helvetica\,sans-serif\;">Scheduled Speakers:</span></span></span></p><p><span style="color: rgb(0\, 0\, 0)\;"><span style="font-size: 18px\;"><span style="font-family: Arial\,Helvetica\,sans-serif\;">Garren Colvin\, President &amp\; CEO of St. Elizabeth Healthcare</span></span></span></p><p><span style="color: rgb(0\, 0\, 0)\;"><span style="font-size: 18px\;"><span style="font-family: Arial\,Helvetica\,sans-serif\;">Moderator: Brent Cooper\, President and CEO of the Northern Kentucky Chamber of Commerce</span></span></span></p><p><span style="color: rgb(0\, 0\, 0)\;"><span style="font-size: 18px\;"><span style="font-family: Arial\,Helvetica\,sans-serif\;">&nbsp\;</span></span></span></p><p><span style="color: rgb(0\, 0\, 0)\;"><span style="font-size: 18px\;"><span style="font-family: Arial\,Helvetica\,sans-serif\;">Event Schedule:</span></span></span></p><p><span style="color: rgb(0\, 0\, 0)\;"><span style="font-size: 18px\;"><span style="font-family: Arial\,Helvetica\,sans-serif\;">7:30am - 7:55am: Attendee Check-In/Breakfast/Networking&nbsp\;</span></span></span></p><p><span style="font-family: Arial\, Helvetica\, sans-serif\; font-size: 18px\; color: rgb(0\, 0\, 0)\;">7:55am - 9:00am: Keynote Presentation and Audience Q&amp\;A</span></p></body></html>
LOCATION:1379 Donaldson Road Erlanger KY 41018
UID:e.3755.1261224
SEQUENCE:3
DTSTAMP:20260423T204653Z
URL:https://business.nkychamber.com/communitycalendar/Details/eggs-n-issues-sparking-nky-s-future-a-fireside-chat-with-garren-colvin-1476322?sourceTypeId=Hub
END:VEVENT
END:VCALENDAR
