BEGIN:VCALENDAR
VERSION:2.0
PRODID:-//ChamberMaster//Event Calendar 2.0//EN
METHOD:PUBLISH
X-PUBLISHED-TTL:P1H
REFRESH-INTERVAL:P1H
CALSCALE:GREGORIAN
BEGIN:VTIMEZONE
TZID:America/New_York
BEGIN:DAYLIGHT
RRULE:FREQ=YEARLY;BYMONTH=3;BYDAY=2SU
DTSTART:20070101T000000
TZOFFSETFROM:-0500
TZOFFSETTO:-0400
TZNAME:Eastern Daylight Time
END:DAYLIGHT
BEGIN:STANDARD
RRULE:FREQ=YEARLY;BYMONTH=11;BYDAY=1SU
DTSTART:20070101T000000
TZOFFSETFROM:-0400
TZOFFSETTO:-0500
TZNAME:Eastern Standard Time
END:STANDARD
END:VTIMEZONE
BEGIN:VEVENT
DTSTART;TZID=America/New_York:20261113T090000
DTEND;TZID=America/New_York:20261113T100000
X-MICROSOFT-CDO-ALLDAYEVENT:FALSE
SUMMARY:HR 100: Winning Talent in 2027 Webinar
DESCRIPTION:Join the NKY Chamber as we bring a panel of compensation and benefits professionals together to share national and local trends driving the employment market into this new year.CLICK HERE TO REGISTER
X-ALT-DESC;FMTTYPE=text/html:<!DOCTYPE html><html><head><title></title></head><body aria-disabled="false"><p>Join the NKY Chamber as we bring a panel of compensation and benefits professionals together to share national and local trends driving the employment market into this new year.</p><p><a fr-original-style="" href="https://events.teams.microsoft.com/event/21ebd638-15e4-431c-80de-b4d387f78be7@f2c0c3ab-9f32-49aa-9a6a-4db0a883f820" rel="noopener noreferrer" style="user-select: auto\;" target="_blank"><strong fr-original-style="" style="font-weight: 700\;"><u>CLICK HERE TO REGISTER</u></strong></a></p></body></html>
LOCATION:Microsoft Teams
UID:e.3755.1439905
SEQUENCE:3
DTSTAMP:20260423T190248Z
URL:https://business.nkychamber.com/communitycalendar/Details/hr-100-winning-talent-in-2027-webinar-1704558?sourceTypeId=Hub
END:VEVENT
END:VCALENDAR
