BEGIN:VCALENDAR
VERSION:2.0
PRODID:-//ChamberMaster//Event Calendar 2.0//EN
METHOD:PUBLISH
X-PUBLISHED-TTL:P1H
REFRESH-INTERVAL:P1H
CALSCALE:GREGORIAN
BEGIN:VTIMEZONE
TZID:America/New_York
BEGIN:DAYLIGHT
RRULE:FREQ=YEARLY;BYMONTH=3;BYDAY=2SU
DTSTART:20070101T000000
TZOFFSETFROM:-0500
TZOFFSETTO:-0400
TZNAME:Eastern Daylight Time
END:DAYLIGHT
BEGIN:STANDARD
RRULE:FREQ=YEARLY;BYMONTH=11;BYDAY=1SU
DTSTART:20070101T000000
TZOFFSETFROM:-0400
TZOFFSETTO:-0500
TZNAME:Eastern Standard Time
END:STANDARD
END:VTIMEZONE
BEGIN:VEVENT
DTSTART;TZID=America/New_York:20260818T073000
DTEND;TZID=America/New_York:20260818T090000
X-MICROSOFT-CDO-ALLDAYEVENT:FALSE
SUMMARY:Eggs 'N Issues: Built on Creativity - The Business Impact of Arts in NKY
DESCRIPTION:Infrastructure isn't just roads\, buildings\, and utilities it's also the creative ecosystem that shapes how people experience a place.Join us this August for a forward-looking conversation on how arts and culture function as "hidden infrastructure" in Northern Kentucky powering economic development\, elevating quality of life\, and driving long-term regional growth. Together\, we'll reframe the role of creative investment\, positioning the arts not as a luxury but as a critical asset in building a resilient\, attractive\, and competitive community.Expect a dynamic discussion that connects creativity to commerce\, placemaking\, talent retention\, and regional identity offering a fresh lens on how we invest in the future of our region.Scheduled Speakers: Moderator: Julie Kirkpatrick\, President and CEO of MeetNKY Event Schedule:7:30am - 7:55am: Attendee Check-In/Breakfast/Networking 7:55am - 9:00am: Keynote Presentation and Audience Q&A
X-ALT-DESC;FMTTYPE=text/html:<!DOCTYPE html><html><head><title></title></head><body aria-disabled="false"><p><span style="font-family: Arial\, Helvetica\, sans-serif\; font-size: 18px\;">Infrastructure isn&rsquo\;t just roads\, buildings\, and utilities&mdash\;it&rsquo\;s also the creative ecosystem that shapes how people experience a place.</span></p><p><span style="font-size: 18px\;"><span style="font-family: Arial\,Helvetica\,sans-serif\;">Join us this August for a forward-looking conversation on how arts and culture function as &ldquo\;hidden infrastructure&rdquo\; in Northern Kentucky&mdash\;powering economic development\, elevating quality of life\, and driving long-term regional growth. Together\, we&rsquo\;ll reframe the role of creative investment\, positioning the arts not as a luxury but as a critical asset in building a resilient\, attractive\, and competitive community.</span></span></p><p><span style="font-family: Arial\, Helvetica\, sans-serif\; font-size: 18px\;">Expect a dynamic discussion that connects creativity to commerce\, placemaking\, talent retention\, and regional identity&mdash\;offering a fresh lens on how we invest in the future of our region.</span></p><p><span style="font-size: 18px\;"><span style="font-family: Arial\,Helvetica\,sans-serif\;">Scheduled Speakers:&nbsp\;</span></span></p><p><span style="font-size: 18px\;"><span style="font-family: Arial\,Helvetica\,sans-serif\;">Moderator: Julie Kirkpatrick\, President and CEO of MeetNKY</span></span></p><p><span style="font-size: 18px\;"><span style="font-family: Arial\,Helvetica\,sans-serif\;">&nbsp\;</span></span></p><p><span style="font-size: 18px\;"><span style="font-family: Arial\,Helvetica\,sans-serif\;">Event Schedule:</span></span></p><p><span style="font-size: 18px\;"><span style="font-family: Arial\,Helvetica\,sans-serif\;">7:30am - 7:55am: Attendee Check-In/Breakfast/Networking&nbsp\;</span></span></p><p><span style="font-family: Arial\, Helvetica\, sans-serif\; font-size: 18px\;">7:55am - 9:00am: Keynote Presentation and Audience Q&amp\;A</span></p></body></html>
LOCATION:1379 Donaldson Road Erlanger KY 41018
UID:e.3755.1261230
SEQUENCE:3
DTSTAMP:20260423T185158Z
URL:https://business.nkychamber.com/communitycalendar/Details/eggs-n-issues-built-on-creativity-the-business-impact-of-arts-in-nky-1476328?sourceTypeId=Hub
END:VEVENT
END:VCALENDAR
