BEGIN:VCALENDAR
VERSION:2.0
PRODID:-//ChamberMaster//Event Calendar 2.0//EN
METHOD:PUBLISH
X-PUBLISHED-TTL:P1H
REFRESH-INTERVAL:P1H
CALSCALE:GREGORIAN
BEGIN:VTIMEZONE
TZID:America/New_York
BEGIN:DAYLIGHT
RRULE:FREQ=YEARLY;BYMONTH=3;BYDAY=2SU
DTSTART:20070101T000000
TZOFFSETFROM:-0500
TZOFFSETTO:-0400
TZNAME:Eastern Daylight Time
END:DAYLIGHT
BEGIN:STANDARD
RRULE:FREQ=YEARLY;BYMONTH=11;BYDAY=1SU
DTSTART:20070101T000000
TZOFFSETFROM:-0400
TZOFFSETTO:-0500
TZNAME:Eastern Standard Time
END:STANDARD
END:VTIMEZONE
BEGIN:VEVENT
DTSTART;TZID=America/New_York:20261117T073000
DTEND;TZID=America/New_York:20261117T091500
X-MICROSOFT-CDO-ALLDAYEVENT:FALSE
SUMMARY:Eggs 'N Issues: 2027 Regional Economic Outlook
DESCRIPTION:Join us at Eggs 'N Issue to hear from local experts on the Regional Economic Outlook of NKY. This annual event takes a look at where the NKY Metro region and national economy is headed in the new year. Panelists will address the economic factors and trends that will affect business owners into 2027. Scheduled Speakers:Janet Harrah\, Executive Director of Outreach and Senior Director with the Center for Economic Analysis and Development at NKUMarc Dizard\, Chief Investment Officer with Huntington Wealth ManagementEvent Schedule:7:30am - 7:55am: Attendee Check-In/Breakfast/Networking 7:55am - 9:00am: Keynote Presentation and Audience Q&A
X-ALT-DESC;FMTTYPE=text/html:<!DOCTYPE html><html><head><title></title></head><body aria-disabled="false"><p><span style="font-family: Arial\, Helvetica\, sans-serif\; font-size: 18px\;">Join us at Eggs &#39\;N Issue to hear from local experts on the Regional Economic Outlook of NKY. This annual event takes a look at where the NKY Metro region and national economy is headed in the new year. Panelists will address the economic factors and trends that will affect business owners into 2027.&nbsp\;</span></p><p><span style="font-size: 18px\;"><span style="font-family: Arial\,Helvetica\,sans-serif\;">Scheduled Speakers:</span></span></p><p><span style="font-size: 18px\;"><span style="font-family: Arial\,Helvetica\,sans-serif\;">Janet Harrah\, Executive Director of Outreach and Senior Director with the Center for Economic Analysis and Development at NKU</span></span></p><p><span style="font-size: 18px\;"><span style="font-family: Arial\,Helvetica\,sans-serif\;">Marc Dizard\, Chief Investment Officer with Huntington Wealth Management</span></span></p><p><span style="font-size: 18px\;"><span style="font-family: Arial\,Helvetica\,sans-serif\;">Event Schedule:</span></span></p><p><span style="font-size: 18px\;"><span style="font-family: Arial\,Helvetica\,sans-serif\;">7:30am - 7:55am: Attendee Check-In/Breakfast/Networking&nbsp\;</span></span></p><p><span style="font-family: Arial\, Helvetica\, sans-serif\; font-size: 18px\;">7:55am - 9:00am: Keynote Presentation and Audience Q&amp\;A</span></p></body></html>
LOCATION:1379 Donaldson Road Erlanger KY 41018
UID:e.3755.1262627
SEQUENCE:3
DTSTAMP:20260423T185040Z
URL:https://business.nkychamber.com/communitycalendar/Details/eggs-n-issues-2027-regional-economic-outlook-1477943?sourceTypeId=Hub
END:VEVENT
END:VCALENDAR
