BEGIN:VCALENDAR
VERSION:2.0
PRODID:-//ChamberMaster//Event Calendar 2.0//EN
METHOD:PUBLISH
X-PUBLISHED-TTL:P1H
REFRESH-INTERVAL:P1H
CALSCALE:GREGORIAN
BEGIN:VTIMEZONE
TZID:America/New_York
BEGIN:DAYLIGHT
RRULE:FREQ=YEARLY;BYMONTH=3;BYDAY=2SU
DTSTART:20070101T000000
TZOFFSETFROM:-0500
TZOFFSETTO:-0400
TZNAME:Eastern Daylight Time
END:DAYLIGHT
BEGIN:STANDARD
RRULE:FREQ=YEARLY;BYMONTH=11;BYDAY=1SU
DTSTART:20070101T000000
TZOFFSETFROM:-0400
TZOFFSETTO:-0500
TZNAME:Eastern Standard Time
END:STANDARD
END:VTIMEZONE
BEGIN:VEVENT
DTSTART;TZID=America/New_York:20261110T080000
DTEND;TZID=America/New_York:20261110T120000
X-MICROSOFT-CDO-ALLDAYEVENT:FALSE
SUMMARY:2026 HR Trifecta Strategic Leaders Conference
DESCRIPTION:Saddle up for the Annual HR Trifecta Strategic Leaders Conference. We will be jockeying through three key areas vital for our organization's success: recruitment\, talent development\, and fostering a winning culture. Just like a prestigious race\, today's agenda promises excitement\, competition\, and the pursuit of excellence.
X-ALT-DESC;FMTTYPE=text/html:<!DOCTYPE html><html><head><title></title></head><body aria-disabled="false"><p>Saddle up for the Annual HR Trifecta Strategic Leaders Conference. We will be jockeying through three key areas vital for our organization&#39\;s success: recruitment\, talent development\, and fostering a winning culture. Just like a prestigious race\, today&#39\;s agenda promises excitement\, competition\, and the pursuit of excellence.</p></body></html>
LOCATION:401 Kenton Lands Road Erlanger KY 41018
UID:e.3755.1439879
SEQUENCE:3
DTSTAMP:20260423T190810Z
URL:https://business.nkychamber.com/communitycalendar/Details/2026-hr-trifecta-strategic-leaders-conference-1704518?sourceTypeId=Hub
END:VEVENT
END:VCALENDAR
